BEGIN:VCALENDAR
VERSION:2.0
PRODID:-//World of Winter - ECPv6.15.20//NONSGML v1.0//EN
CALSCALE:GREGORIAN
METHOD:PUBLISH
X-ORIGINAL-URL:https://worldofwintergr.com
X-WR-CALDESC:Events for World of Winter
REFRESH-INTERVAL;VALUE=DURATION:PT1H
X-Robots-Tag:noindex
X-PUBLISHED-TTL:PT1H
BEGIN:VTIMEZONE
TZID:UTC
BEGIN:STANDARD
TZOFFSETFROM:+0000
TZOFFSETTO:+0000
TZNAME:UTC
DTSTART:20240101T000000
END:STANDARD
END:VTIMEZONE
BEGIN:VEVENT
DTSTART;TZID=UTC:20250110T080000
DTEND;TZID=UTC:20250302T230000
DTSTAMP:20260420T181716
CREATED:20241113T233747Z
LAST-MODIFIED:20260114T023047Z
UID:10000039-1736496000-1740956400@worldofwintergr.com
SUMMARY:World of Winter: Scavenger Hunt
DESCRIPTION:Join the World of Winter Scavenger Hunt! Explore the festival in a fun new way with our interactive scavenger hunt! Complete missions\, discover hidden gems and earn points for a chance to win prizes every week!\n\n\n\n  \nHow to Get Started: \n\nDownload the GooseChase App\nCreate an Account or play as a guest\nEnter in the Code: 287GLX to find the 2025 hunt\nCreate & Name Your Team\nJoin the Game and start completing missions\nInvite Friends using your unique Team Access Code\n\n\n\n\n\n\n\n  \n  \n  \n \n\n\n\n\n\n\nWhat to Expect: \n\nExplore the Festival: Complete missions and discover the best spots in the World of Winter.\nWin Prizes: Earn points to enter prize draws every week!\nFamily Fun: Perfect for individuals\, families\, and groups.\nMission Time: The hunt takes 1-2 hours to complete.
URL:https://worldofwintergr.com/event/wow-scavenger-hunt/
LOCATION:Ah-Nab-Awen Park\, 220 Front Ave NW\, Grand Rapids\, MI\, 49504\, United States
CATEGORIES:Family Friendly,Walking Tours,Wellness
ATTACH;FMTTYPE=image/webp:https://worldofwintergr.com/wp-content/uploads/2024/11/WoW-App-020721-024.webp
END:VEVENT
BEGIN:VEVENT
DTSTART;TZID=UTC:20250111T180000
DTEND;TZID=UTC:20250111T210000
DTSTAMP:20260420T181716
CREATED:20241231T032245Z
LAST-MODIFIED:20260113T185928Z
UID:10000057-1736618400-1736629200@worldofwintergr.com
SUMMARY:World of Winter: Opening Celebration
DESCRIPTION:Join us for the exciting Opening Kickoff Event of the 2025 World of Winter Festival! Enjoy a live ice carving\, DJ beats\, art and delicious food trucks as we kick off the festival in style. UPDATE: Due to Delivery Delays\, The Bon{d}fire installation will not be at the opening event. \n  \nWHAT TO EXPECT: \n\nHigh-Energy DJ Set: Dance the night away to electrifying beats from DJ Adrian Butler\nCozy Fire Pits: Warm up by the fire\nGiant Interactive LiteZilla: Unleash your creativity on a massive\, interactive LiteBrite board\nYard Games: Challenge your friends to a variety of fun outdoor games.\nGrand Rapids Children’s Museum – Kids Can Van! Interactive fun for the little ones\nLive Ice Carving: Watch as the Ice Guru Events carves the Grand Rapids City Skyline with the iconic Calder Sculpture\nFree Mini Sauna Sessions: Prebook your free session here!\n\n  \nFOOD TRUCKS: \nPac Pizzeria\, Casa De Los Abuelos\, Patty Matters\, Roasted Red’s & Olly’s Donuts
URL:https://worldofwintergr.com/event/world-of-winter-opening-celebration/
LOCATION:555 Monroe\, 555 Monroe Ave NW\, Grand Rapids\, Mic\, 49503\, United States
CATEGORIES:Family Friendly,Food Trucks,Music/Dance,On Ice
ATTACH;FMTTYPE=image/webp:https://worldofwintergr.com/wp-content/uploads/2024/12/WoW-MendivilPromo-291-arw_DxO.webp
ORGANIZER;CN="Downtown Grand Rapids Inc.":MAILTO:info@downtowngr.org
END:VEVENT
BEGIN:VEVENT
DTSTART;TZID=UTC:20250124T180000
DTEND;TZID=UTC:20250124T190000
DTSTAMP:20260420T181716
CREATED:20241113T222702Z
LAST-MODIFIED:20241218T232921Z
UID:10000038-1737741600-1737745200@worldofwintergr.com
SUMMARY:BONIMGET - Traditional Native Hoop Dance
DESCRIPTION:Experience the rich cultural tradition of Native Hoop Dancing with Malcolm McDonald\, a proud member of the Bodwéwadmi (Potawatomi) tribe. Malcolm’s performance blends storytelling\, dance and music to share the deep traditions of his people.\n\n\n\n\n\n\n\n\n\n\n  \nWhat to Expect: \n\nNative Hoop Dancing: Watch Malcolm perform the intricate art of hoop dancing\, symbolizing the interconnectedness of life and nature.\nLive Drumming and Music: The dance is accompanied by live drumming\, enhancing the storytelling with rhythm and energy.\nCultural Storytelling: Each movement and hoop tells a story\, honoring nature and Anishinaabe teachings.\nFamily-Friendly: This event is open to all ages\, offering a unique cultural experience for everyone.\n\n  \nFrom The Organizer: \nMalcolm ndezhnëkas. mthébnéshiniyêk ndëbéndagwes. bodwéwadmi miné neshnabé ndaw. mko o ndodém. mzhi’génak ndëwtthbya. \n(My name is Malcolm. I belong to the People of the Bad Bird. I am Bodwéwadmi and Neshnabé. Bear is my clan. I am from Michigan.) \n\n\n\n\n\n\n 
URL:https://worldofwintergr.com/event/bonimget-traditional-native-hoop-dance/
LOCATION:Gillett Bridge\, 220 Front Ave NW\, Grand Rapids\, MI\, 49503\, United States
CATEGORIES:Cultural,Family Friendly,Music/Dance
ATTACH;FMTTYPE=image/webp:https://worldofwintergr.com/wp-content/uploads/2024/11/DGRI-ReturnToTheRiver-082424-211-arw.webp
ORGANIZER;CN="Grand River Bands of Ottawa Indians":MAILTO:https://www.grandriverbands.com/
END:VEVENT
BEGIN:VEVENT
DTSTART;TZID=UTC:20250125T120000
DTEND;TZID=UTC:20250125T170000
DTSTAMP:20260420T181716
CREATED:20241113T002659Z
LAST-MODIFIED:20250122T222810Z
UID:10000021-1737806400-1737824400@worldofwintergr.com
SUMMARY:Ice Breaker
DESCRIPTION:Join us for a live ice carving experience at Ice Breaker! Watch a giant block of ice transform into a stunning sculpture\, created from a design chosen by the community. This free\, family-friendly event is perfect for all ages! \n  \nWhat to Expect: \n\nLive Ice Carving: Watch as local artists carve a massive block of ice into a beautiful sculpture.\nCommunity-Voted Sculpture: Join to see what the community voted ice sculpture is going to be!\nOutdoor Fun: Enjoy the winter magic at Rosa Parks Circle with this free\, family-friendly event.\n\n 
URL:https://worldofwintergr.com/event/ice-breaker/
LOCATION:Rosa Parks Circle\, 135 Monroe Center St NW\,\, Grand Rapids\, MI\, 49503\, United States
CATEGORIES:Family Friendly,On Ice
ATTACH;FMTTYPE=image/webp:https://worldofwintergr.com/wp-content/uploads/2024/10/Ice-Breaker-1.webp
END:VEVENT
BEGIN:VEVENT
DTSTART;TZID=UTC:20250125T180000
DTEND;TZID=UTC:20250125T220000
DTSTAMP:20260420T181716
CREATED:20241107T010725Z
LAST-MODIFIED:20250106T000518Z
UID:10000010-1737828000-1737842400@worldofwintergr.com
SUMMARY:Fire & Ice
DESCRIPTION:Join us for a family-friendly night of fun in Grand Rapids! Enjoy fire performances\, figure skating routines and a lively street party with food trucks\, interactive activities and live entertainment. Come for the performances\, stay for the fun! \n  \nSchedule: \n\n6:00 PM – Fire Skater Performance\n6:30 PM – Dance Performers on Monroe Center\n7:00 PM – Greater Grand Rapids Figure Skating Club Performance\n7:30 PM – Dance Performers on Monroe Center\n7:45 PM – Fire Skater Performance\n8:15 PM – Dance Performers on Monroe Center\n8:30 PM – Rink Opens for Open Skate\n\n  \n\n\n\n\nWhat to Expect: \n\n\n\n\n\n\n\nSkating Performances: Watch fire performers and figure skaters in synchronized routines.\nInteractive Street Party: Enjoy activities for all ages\, fire pits and live entertainment. Monroe Center will be closed to vehicle traffic and accessible to pedestrians only. \nOpen Skate: Skate after the performances—tickets available on-site.\nFood Trucks: Grab tasty bites from local vendors.\nLED Playground & Booth: Explore interactive fun at the LED playground and GREG booth.\nIce Tower with Fire: Watch the Ice Guru Events Team craft a towering work of art out of ice\nStreet Dance Performances: Get hyped by the incredible moves of the iconic duo D’Soul and Greenz\n\n  \nIce Skating Cost: \n\nAdults (18+): $6\nYouth (17 & under): $3\n10-Hole Punch Card: $22\nAdmission includes free skate rental. Cash and card accepted.
URL:https://worldofwintergr.com/event/fire-ice/
LOCATION:Rosa Parks Circle\, 135 Monroe Center St NW\,\, Grand Rapids\, MI\, 49503\, United States
CATEGORIES:Family Friendly,Food Trucks,Music/Dance,On Ice
ATTACH;FMTTYPE=image/webp:https://worldofwintergr.com/wp-content/uploads/2024/11/WoW-FireIce-012822-1089-arw_DxO.webp
ORGANIZER;CN="Downtown Grand Rapids Inc.":MAILTO:info@downtowngr.org
END:VEVENT
BEGIN:VEVENT
DTSTART;TZID=UTC:20250126T120000
DTEND;TZID=UTC:20250126T180000
DTSTAMP:20260420T181716
CREATED:20241108T000049Z
LAST-MODIFIED:20250122T213506Z
UID:10000011-1737892800-1737914400@worldofwintergr.com
SUMMARY:Ice Park & Food Truck Rally
DESCRIPTION:Get ready for a day of frosty fun\, delicious food and an immersive sound experience at the Ice Park & Food Truck Rally! \n  \nWhat to Expect: \n\nIce Games: Challenge yourself with fun games made entirely out of ice by Ice Guru Events\n\nConnect 4 *\nBowling *\nFoosball\nChess\nCheckers\nTic Tac Toe\nCorn hole\nAir Hockey\nSkee Ball\,\n‘Winner’ Ice Throne\n\n\nLive Ice Carving: Watch as Ice Guru Events creates stunning ice art.\nSound Immersion (1:00 PM – 5:00 PM): Dive into interactive music setups\, including CDJs\, a midi keyboard and an electronic drum kit.\nFood Trucks: Enjoy a variety of tasty eats from local food trucks. Full list of vendors below!\nFamily-Friendly: Fun for all ages with games\, food and music in a relaxed atmosphere.\n\n  \nSchedule: \n\n12:00 PM: Ice Park & Food Truck Rally opens\n1:00 PM – 5:00 PM: Sound Immersion\n6:00 PM: Food Truck Rally ends (Ice Park remains open until it melts)\n\n  \nFood Trucks: \nAround Baking Co\, Tacos La Familia G.O.\, Shnack Trap\, Andy’s Munchies\, The Smokin Unicorn\, Roasted Red’s and Olly’s Donuts\n\n\n* = new games
URL:https://worldofwintergr.com/event/ice-park-food-truck-rally/
LOCATION:555 Monroe\, 555 Monroe Ave NW\, Grand Rapids\, Mic\, 49503\, United States
CATEGORIES:Family Friendly,Food Trucks,Music/Dance,On Ice
ATTACH;FMTTYPE=image/webp:https://worldofwintergr.com/wp-content/uploads/2024/11/Ice-Park-8.webp
ORGANIZER;CN="Downtown Grand Rapids Inc.":MAILTO:info@downtowngr.org
END:VEVENT
BEGIN:VEVENT
DTSTART;TZID=UTC:20250131T180000
DTEND;TZID=UTC:20250131T220000
DTSTAMP:20260420T181716
CREATED:20241108T003329Z
LAST-MODIFIED:20250130T014503Z
UID:10000012-1738346400-1738360800@worldofwintergr.com
SUMMARY:Disco on Ice
DESCRIPTION:Get Your Groove on and join us for a disco-themed skate night! Skate to funky beats\, rock your best retro look and have a blast on the ice. \n  \nWhat to Expect: \n\n3 Disco DJs: Enjoy classic and modern disco hits all night long.\n\nDJ Bob Marino\, M.O. and Dreas.\n\n\nIce Skating Fun: Skate under vibrant lights with a lively disco vibe.\nDress to Impress: Come in your best retro outfit—sequins\, bell bottoms and more!\nFun for All Ages: A night of skating for families and friends alike.\n\n  \nIce Skating Cost: \n\nAdults (18+): $6\nYouth (17 & under): $3\n10-Hole Punch Card: $22\nAdmission includes free skate rental. Cash and card accepted.
URL:https://worldofwintergr.com/event/disco-on-ice/
LOCATION:Rosa Parks Circle\, 135 Monroe Center St NW\,\, Grand Rapids\, MI\, 49503\, United States
CATEGORIES:Family Friendly,Music/Dance,On Ice
ATTACH;FMTTYPE=image/webp:https://worldofwintergr.com/wp-content/uploads/2024/11/paul-zoetemeijer-ruujnFOHS30-unsplash-scaled.webp
ORGANIZER;CN="Downtown Grand Rapids Inc.":MAILTO:info@downtowngr.org
END:VEVENT
END:VCALENDAR