BEGIN:VCALENDAR
VERSION:2.0
PRODID:-//World of Winter - ECPv6.15.20//NONSGML v1.0//EN
CALSCALE:GREGORIAN
METHOD:PUBLISH
X-ORIGINAL-URL:https://worldofwintergr.com
X-WR-CALDESC:Events for World of Winter
REFRESH-INTERVAL;VALUE=DURATION:PT1H
X-Robots-Tag:noindex
X-PUBLISHED-TTL:PT1H
BEGIN:VTIMEZONE
TZID:UTC
BEGIN:STANDARD
TZOFFSETFROM:+0000
TZOFFSETTO:+0000
TZNAME:UTC
DTSTART:20240101T000000
END:STANDARD
END:VTIMEZONE
BEGIN:VEVENT
DTSTART;TZID=UTC:20250110T080000
DTEND;TZID=UTC:20250302T230000
DTSTAMP:20260420T182206
CREATED:20241113T233747Z
LAST-MODIFIED:20260114T023047Z
UID:10000039-1736496000-1740956400@worldofwintergr.com
SUMMARY:World of Winter: Scavenger Hunt
DESCRIPTION:Join the World of Winter Scavenger Hunt! Explore the festival in a fun new way with our interactive scavenger hunt! Complete missions\, discover hidden gems and earn points for a chance to win prizes every week!\n\n\n\n  \nHow to Get Started: \n\nDownload the GooseChase App\nCreate an Account or play as a guest\nEnter in the Code: 287GLX to find the 2025 hunt\nCreate & Name Your Team\nJoin the Game and start completing missions\nInvite Friends using your unique Team Access Code\n\n\n\n\n\n\n\n  \n  \n  \n \n\n\n\n\n\n\nWhat to Expect: \n\nExplore the Festival: Complete missions and discover the best spots in the World of Winter.\nWin Prizes: Earn points to enter prize draws every week!\nFamily Fun: Perfect for individuals\, families\, and groups.\nMission Time: The hunt takes 1-2 hours to complete.
URL:https://worldofwintergr.com/event/wow-scavenger-hunt/
LOCATION:Ah-Nab-Awen Park\, 220 Front Ave NW\, Grand Rapids\, MI\, 49504\, United States
CATEGORIES:Family Friendly,Walking Tours,Wellness
ATTACH;FMTTYPE=image/webp:https://worldofwintergr.com/wp-content/uploads/2024/11/WoW-App-020721-024.webp
END:VEVENT
BEGIN:VEVENT
DTSTART;TZID=UTC:20250222T110000
DTEND;TZID=UTC:20250222T160000
DTSTAMP:20260420T182206
CREATED:20241113T014302Z
LAST-MODIFIED:20260113T190300Z
UID:10000024-1740222000-1740240000@worldofwintergr.com
SUMMARY:Great Lakes Snow Snake Competition
DESCRIPTION:Join us for a Snow Snake Competition! Snow Snake is a traditional northern Native American game. The snake that is thrown the farthest down a snow trough wins.  \nYOU MUST MAKE YOUR OWN SNAKE TO COMPETE.  \nPractice snakes will be available for all to try. Compete for the grand prize of $500.  \n  \nBRACKETS:  \n\nCompete in one of the categories based on age and gender: \n0-5 years old \n6-12 years old \n13-19 years old \n20-34 years old \n35-54 years old \n55+ years old \n\n  \nWHAT TO EXPECT:  \n\nBuild Your Snake: You must make your own snake to compete \n\n\nThrow Your Snake: Each competitor gets to throw their snow snake – the goal is to throw it the farthest! \n\n  \nSCHEDULE:  \n\n11:00 AM Registration & Practice Rounds\n12:00 PM Competition begins. Event and times depend on the number of participants. Winners and prizes will be announced after all the brackets have completed competition. \n\n  \nADDITIONAL INFO:  \n\nRegistration is free at the beginning of the event – arrive early to sign up and practice! \n\n\nFamily-friendly and fun for all ages! \n\n  \nPRIZES:  \n\nBracket Victory: $50 \nGrand Prize $500 \n\n  \n 
URL:https://worldofwintergr.com/event/great-lakes-snow-snake-competition/
LOCATION:Sixth Street Park\, 647 Monroe Ave NW\, Grand Rapids\, MI\, 49503\, United States
CATEGORIES:Cultural,Family Friendly
ATTACH;FMTTYPE=image/webp:https://worldofwintergr.com/wp-content/uploads/2024/10/Snow-Snake-3.webp
ORGANIZER;CN="Grand River Bands of Ottawa Indians":MAILTO:https://www.grandriverbands.com/
END:VEVENT
END:VCALENDAR