BEGIN:VCALENDAR
VERSION:2.0
PRODID:-//World of Winter - ECPv6.15.20//NONSGML v1.0//EN
CALSCALE:GREGORIAN
METHOD:PUBLISH
X-WR-CALNAME:World of Winter
X-ORIGINAL-URL:https://worldofwintergr.com
X-WR-CALDESC:Events for World of Winter
REFRESH-INTERVAL;VALUE=DURATION:PT1H
X-Robots-Tag:noindex
X-PUBLISHED-TTL:PT1H
BEGIN:VTIMEZONE
TZID:UTC
BEGIN:STANDARD
TZOFFSETFROM:+0000
TZOFFSETTO:+0000
TZNAME:UTC
DTSTART:20240101T000000
END:STANDARD
END:VTIMEZONE
BEGIN:VEVENT
DTSTART;TZID=UTC:20250207T183000
DTEND;TZID=UTC:20250207T203000
DTSTAMP:20260420T092149
CREATED:20241108T011541Z
LAST-MODIFIED:20260113T190945Z
UID:10000014-1738953000-1738960200@worldofwintergr.com
SUMMARY:Ice Piano Performance
DESCRIPTION:Step into a world of art\, music\, and winter wonder at the Ice Piano Performance set against the stunning Rainbow Willow Tree installation. \n  \nWhat to Expect: \n\nLive Music on an Ice Piano: Local musicians Sammie Hershock and Hannah Laine will perform on a piano crafted from ice\, producing an ethereal\, hauntingly beautiful sound.\nRainbow Willow Tree Installation: This striking installation will provide a surreal visual backdrop\, adding to the winter magic of the event.\n\n  \nSchedule: \n\n6:30 PM – Sammie Performs\n7:00 PM – Hannah Performs\n7:30 PM – Sammie Performs\n8:00 PM – Hannah Performs
URL:https://worldofwintergr.com/event/ice-piano-performance/
LOCATION:Canal Park\, 941 Monroe Ave NW\, Grand Rapids\, MI\, 49503\, United States
CATEGORIES:Music/Dance,On Ice
ATTACH;FMTTYPE=image/webp:https://worldofwintergr.com/wp-content/uploads/2024/11/Ice-Piano-6.webp
ORGANIZER;CN="Downtown Grand Rapids Inc.":MAILTO:info@downtowngr.org
END:VEVENT
END:VCALENDAR