BEGIN:VCALENDAR
VERSION:2.0
PRODID:-//World of Winter - ECPv6.15.20//NONSGML v1.0//EN
CALSCALE:GREGORIAN
METHOD:PUBLISH
X-ORIGINAL-URL:https://worldofwintergr.com
X-WR-CALDESC:Events for World of Winter
REFRESH-INTERVAL;VALUE=DURATION:PT1H
X-Robots-Tag:noindex
X-PUBLISHED-TTL:PT1H
BEGIN:VTIMEZONE
TZID:UTC
BEGIN:STANDARD
TZOFFSETFROM:+0000
TZOFFSETTO:+0000
TZNAME:UTC
DTSTART:20240101T000000
END:STANDARD
END:VTIMEZONE
BEGIN:VEVENT
DTSTART;TZID=UTC:20260111T130000
DTEND;TZID=UTC:20260111T160000
DTSTAMP:20260419T083011
CREATED:20251119T203446Z
LAST-MODIFIED:20251230T014616Z
UID:10000065-1768136400-1768147200@worldofwintergr.com
SUMMARY:Jalsa: Festivity of Food & Culture
DESCRIPTION:“Jalsa” is an invitation to immerse yourself in the sights\, sounds and tastes of India\, celebrating in the richness of life. Celebrate the vibrant culture of India at this outdoor celebration! \n  \nWhat to Expect:\n\nLive Music and Dance Performances: Groove to folks\, fusion and bollywood beats blending traditional and modern sounds.\nTraditional Food Available for Purchase: Enjoy a variety of regional foods from across India\, including samosas\, pani puri mithai and more!\n\n  \nSchedule:\n\n1:00 PM – 1:50 PM: Slow Rock & Folk Music \n2:00 PM – 2:50 PM: Bollywood & Zubeen Garg Songs \n3:00 PM – 3:50 PM: English\, Bollywood & Assamese Songs
URL:https://worldofwintergr.com/event/jalsa-festivity-of-food-culture/
LOCATION:Calder Plaza\, 320 Ottawa Ave NW\, Grand Rapids\, MI\, 49503\, United States
CATEGORIES:Cultural,Family Friendly,Music/Dance
ATTACH;FMTTYPE=image/webp:https://worldofwintergr.com/wp-content/uploads/2025/11/DGRI-Jasha-020725-376.webp
END:VEVENT
BEGIN:VEVENT
DTSTART;TZID=UTC:20250207T183000
DTEND;TZID=UTC:20250207T210000
DTSTAMP:20260419T083011
CREATED:20241108T013153Z
LAST-MODIFIED:20250115T220410Z
UID:10000015-1738953000-1738962000@worldofwintergr.com
SUMMARY:Jalsa: Festivity of food and culture
DESCRIPTION:Celebrate the vibrant culture of India\, featuring music\, dance and delicious regional snacks in partnership with the Assam Association of West Michigan. “Jalsa” is an invitation to immerse yourself in the sights\, sounds and tastes of India\, celebrating the richness of life and the spirit of spring. \n  \nWhat to Expect: \n\nLive Music: Groove to Folk\, Fusion and Bollywood beats blending traditional and modern sounds.\nDance Performances: Enjoy stunning performances of Indian classical and folk dances like Kathak and Bharatanatyam.\nTraditional Indian Food and Snacks Savor festival snacks from across India\, including samosas\, pani puri and mithai\, priced $3-$10.\n\n  \nAdditional Info: \n\nFree and open to all.\nFood available for purchase ($3-$10).\nFamily-friendly!
URL:https://worldofwintergr.com/event/jashin-celebration-of-life/
LOCATION:Calder Plaza\, 320 Ottawa Ave NW\, Grand Rapids\, MI\, 49503\, United States
CATEGORIES:Cultural,Family Friendly,Music/Dance
ATTACH;FMTTYPE=image/webp:https://worldofwintergr.com/wp-content/uploads/2024/11/IMG-20241220-WA0000.webp
END:VEVENT
END:VCALENDAR